BEGIN:VCALENDAR
VERSION:2.0
METHOD:PUBLISH
PRODID:-//Virginia Tech//VT Calendar//EN
BEGIN:VEVENT
DTSTAMP:20130213T020000Z
UID:1357585456522@events.msu.edu
CATEGORIES:Athletics
DTSTART:20130213T020000Z
DTEND:20130213T045900Z
SUMMARY:Men's Basketball vs. Michigan
DESCRIPTION:
 For more information, go to http://www.msuspartans.com\n\n
 Sponsor: Administration\n
 Sponsor's Homepage: http://events.msu.edu/athletics/\n
 for more info visit the web at:\n 
 http://msuspartans.com\n
LOCATION:Breslin Center
END:VEVENT
END:VCALENDAR
