BEGIN:VCALENDAR
VERSION:2.0
METHOD:PUBLISH
PRODID:-//Virginia Tech//VT Calendar//EN
BEGIN:VEVENT
DTSTAMP:20130113T001000Z
UID:1357756167826-0003@events.msu.edu
CATEGORIES:Movie / Film
DTSTART:20130113T001000Z
DTEND:20130113T045900Z
SUMMARY:Campus Center Cinemas
DESCRIPTION:
 Looper:\n
 Thursday, Wells Hall, 9:00 p.m.\n
 Friday, 
 Saturday & Sunday, Wells Hall, 7:10 & 9:15 
 p.m.\n
 Saturday, 137 Akers Hall, 9:10 p.m.\n\n
 Price: FREE for undergraduate students living in MSU 
 residence halls, $2 for all others\n
 Sponsor: University Activities Board (UAB) and the Residence 
 Halls Assoc.\n
 Sponsor's Homepage: http://www.uabevents.com\n
 Contact name: Universiy Activities Board\n
 Contact phone: 355-3354\n
 Contact email: uab@rhs.msu.edu\n
 for more info visit the web at:\n 
 http://uabevents.com\n
LOCATION:B Wing, Wells Hall
END:VEVENT
END:VCALENDAR
