BEGIN:VCALENDAR
VERSION:2.0
METHOD:PUBLISH
PRODID:-//Virginia Tech//VT Calendar//EN
BEGIN:VEVENT
DTSTAMP:20130421T040000Z
UID:1357763006249-0010@events.msu.edu
CATEGORIES:Special Events
DTSTART;VALUE=DATE:20130421
DTEND;VALUE=DATE:20130422
SUMMARY:MSU Science Festival
DESCRIPTION:
 The first ever MSU Science Festival will bring 
 mid-Michigan communities together with MSU scientists 
 in a shared exploration of the science 
 that touches our everyday lives.  This ten-day 
 celebration features topics ranging from 
 astronomy to music to zoology, geared for lifelong 
 learners of all ages.  Check out the 
 website for detailed program information and 
 times.  We look forward to seeing you!\n\n
 Price: free\n
 Sponsor: University Outreach and Engagement\n
 Sponsor's Homepage: http://sciencefestival.msu.edu/\n
 Contact name: Renee Leone\n
 Contact phone: (517) 353-8977\n
 Contact email: scifest@msu.edu\n
 for more info visit the web at:\n 
 http://sciencefestival.msu.edu\n
LOCATION:MSU East Lansing campus, various locations
END:VEVENT
END:VCALENDAR
