BEGIN:VCALENDAR
VERSION:2.0
METHOD:PUBLISH
PRODID:-//Virginia Tech//VT Calendar//EN
BEGIN:VEVENT
DTSTAMP:20130418T161000Z
UID:1357766182610@events.msu.edu
CATEGORIES:Exhibits (Museum, Gardens, ...)
DTSTART:20130418T161000Z
DTEND:20130418T165000Z
SUMMARY:Beal Garden Tour:  Plants to get Butterflies into Your Yard
DESCRIPTION:
 Join Peter Carrington, the assistant curator of 
 the W. J. Beal Botanical Garden for an exploration 
 of some of the many plants which bring 
 butterflies into your backyard. There are plants 
 that feed adults and ones that support 
 their caterpillars as larval food plants. Some 
 of these make dynamic landscape plants in addition 
 to your standard plantings.\n\n
 Price: free\n
 Sponsor: Administration\n
 Sponsor's Homepage: http://www.lib.msu.edu\n
 Contact name: Holly Flynn\n
 Contact phone: 517-884-0901\n
 Contact email: flynnhol@msu.edu\n
LOCATION:Beal Botanical Garden
END:VEVENT
END:VCALENDAR
