BEGIN:VCALENDAR
VERSION:2.0
METHOD:PUBLISH
PRODID:-//Virginia Tech//VT Calendar//EN
BEGIN:VEVENT
DTSTAMP:20130217T210000Z
UID:1358434885517@events.msu.edu
CATEGORIES:Public Programs
DTSTART:20130217T210000Z
DTEND:20130217T223000Z
SUMMARY:Gateway to Infinity
DESCRIPTION:
 Join us as we take a tour of the universe, beginning 
 on the Earth, heading out into the solar 
 system, and then into the Milky Way galaxy 
 and beyond.  Along the way we visit an assortment 
 of astronomical objects:  a nebula, a globular 
 cluster, and a supernova, among others. 
  James Earl Jones provides the narration for 
 this celestial voyage.\n\n
 Price: Adults $3.00, students and senior citizens $2.50, 
 children 12 years and under $2.00\n
 Sponsor: Abrams Planetarium\n
 Sponsor's Homepage: http://www.pa.msu.edu/abrams\n
 Contact name: Mary Gowans\n
 Contact phone: 517-355-4676\n
 Contact email: gowans@msu.edu\n
 for more info visit the web at:\n 
 http://www.pa.msu.edu/abrams\n
LOCATION:Abrams Planetarium
END:VEVENT
END:VCALENDAR
