BEGIN:VCALENDAR
VERSION:2.0
METHOD:PUBLISH
PRODID:-//Virginia Tech//VT Calendar//EN
BEGIN:VEVENT
DTSTAMP:20130125T170000Z
UID:1358543422383-0005@events.msu.edu
CATEGORIES:Exhibits (Museum, Gardens, ...)
DTSTART:20130125T170000Z
DTEND:20130125T200000Z
SUMMARY:Eto Otitigbe's "Loss Prevention" in the LookOut! Art Gallery
DESCRIPTION:
 The RCAH is sponsoring a second annual artist 
 in residence exhibition in the series "Perspectives 
 on African-American Experience: Emerging 
 Visions," with support from the MSU Office 
 for Inclusion and Intercultural Initiatives. 
 Artist Eto Otitigbe will be in residency in 
 the RCAH from January 19 through 26, and will 
 exhibit "Loss Prevention" in the RCAH's LookOut! 
 Art Gallery from January 21 through February 
 15, 2013. The LookOut! is open Monday through 
 Friday, 12 to 3 p.m.\n
 \n
 All are welcome 
 at the following events for Eto Otitigbe's "Loss 
 Prevention" exhibit:\n
 - Opening: Monday, 
 January 21, 1:30-2:30 p.m. in the LookOut! Art 
 Gallery, in collaboration with MSU's Martin 
 Luther King, Jr. Day Commemorative Celebration\n
 - 
 Reception: Wednesday, January 23, 4:30-6 
 p.m. in the LookOut! Art Gallery\n
 - First 
 Sunday Gallery Walk: Sunday, February 3, 1-3 
 p.m. in the LookOut! Art Gallery\n\n
 Price: Free\n
 Sponsor: Residential College in the Arts and Humanities\n
 Sponsor's Homepage: http://rcah.msu.edu\n
 Contact name: Katie Wittenauer, RCAH Communications Manager\n
 Contact phone: (517) 884-6290\n
 Contact email: wittenau@msu.edu\n
 for more info visit the web at:\n 
 http://rcah.msu.edu/news-events/events/eto-otitigbes-loss-prevention-lookout-gallery\n
LOCATION:Snyder-Phillips Hall
END:VEVENT
END:VCALENDAR
