BEGIN:VCALENDAR
VERSION:2.0
METHOD:PUBLISH
PRODID:-//Virginia Tech//VT Calendar//EN
BEGIN:VEVENT
DTSTAMP:20130128T003000Z
UID:1358794307348-0003@events.msu.edu
CATEGORIES:Movie / Film
DTSTART:20130128T003000Z
DTEND:20130128T045900Z
SUMMARY:Campus Center Cinemas
DESCRIPTION:
 Hotel Transylvania:\n
 Friday, Saturday & Sunday, 
 Wells Hall, 7:30 p.m. & 9:25p.m.\n
 Saturday, 
 137 Akers Hall, 9:00 p.m.\n
 \n
 \n\n
 Price: FREE for undergraduate students living in MSU 
 residence halls, $2 for all others\n
 Sponsor: University Activities Board (UAB) and the Residence 
 Halls Assoc.\n
 Sponsor's Homepage: http://www.uabevents.com\n
 Contact name: Universiy Activities Board\n
 Contact phone: 355-3354\n
 Contact email: uab@rhs.msu.edu\n
 for more info visit the web at:\n 
 http://uabevents.com\n
LOCATION:B Wing, Wells Hall
END:VEVENT
END:VCALENDAR
