BEGIN:VCALENDAR
VERSION:2.0
METHOD:PUBLISH
PRODID:-//Virginia Tech//VT Calendar//EN
BEGIN:VEVENT
DTSTAMP:20130202T020000Z
UID:1358795059750@events.msu.edu
CATEGORIES:Student Events
DTSTART:20130202T020000Z
DTEND:20130202T045900Z
SUMMARY:Spartans Against Slavery: A Human Trafficking Awareness Event
DESCRIPTION:
 Did you know that slavery is still going on around 
 the world and in our country today? A former 
 victim of sex trafficking will tell her 
 story and also hear about what other Spartans 
 are doing to put an end to slavery. Music and 
 free Biggby provided while supplies last.\n\n
 Price: FREE\n
 Sponsor: UAB\n
 Sponsor's Homepage: http://www.uabevents.com\n
 Contact name: University Activities Board\n
 Contact phone: 355-3354\n
 Contact email: uab@rhs.msu.edu\n
 for more info visit the web at:\n 
 http://uabevents.com\n
LOCATION:MSU Union Main Lounge
END:VEVENT
END:VCALENDAR
