BEGIN:VCALENDAR
VERSION:2.0
METHOD:PUBLISH
PRODID:-//Virginia Tech//VT Calendar//EN
BEGIN:VEVENT
DTSTAMP:20130202T000000Z
UID:1358795338107-0002@events.msu.edu
CATEGORIES:Movie / Film
DTSTART:20130202T000000Z
DTEND:20130202T045900Z
SUMMARY:Campus Center Cinemas
DESCRIPTION:
 The Man with the Iron Fists:\n
 Thursday, 119B Wells 
 Hall, 9:00 p.m.\n
 Friday, 137 Akers Hall, 
 7:00 p.m.\n
 Friday, Saturday & Sunday, 122B Wells 
 Hall, 7:15 p.m. & 9:15 p.m.\n
 \n
 \n\n
 Price: FREE for undergraduate students living in MSU 
 residence halls, $2 for all others\n
 Sponsor: University Activities Board (UAB) and the Residence 
 Halls Assoc.\n
 Sponsor's Homepage: http://www.uabevents.com\n
 Contact name: Universiy Activities Board\n
 Contact phone: 355-3354\n
 Contact email: uab@rhs.msu.edu\n
 for more info visit the web at:\n 
 http://uabevents.com\n
LOCATION:B Wing, Wells Hall
END:VEVENT
END:VCALENDAR
