BEGIN:VCALENDAR
VERSION:2.0
METHOD:PUBLISH
PRODID:-//Virginia Tech//VT Calendar//EN
BEGIN:VEVENT
DTSTAMP:20130321T200000Z
UID:1360609117292@events.msu.edu
CATEGORIES:Conferences / Seminars / Lectures
DTSTART:20130321T200000Z
DTEND:20130321T220000Z
SUMMARY:Campus Sustainability Research Symposium
DESCRIPTION:
 The Michigan State University campus is a living 
 lab to create a more sustainable community. 
 The Office of Campus Sustainability offers 
 Seed Grants to researchers to study and implement 
 projects. Sponsored projects for the 2011-2012 
 funding cycle are:\n
 \n
 - study of carpooling 
 decision-making\n
 - the effect of LEED buildings 
 on behavior\n
 - using food waste for 
 energy generation,\n
 - reducing energy consumption 
 in academic building environment\n
 - vermicomposting 
 food waste with worms and horticulture 
 in residential areas of campus.\n
 \n
 Read 
 the full descriptions and research briefs online 
 at www.bespartangreen.msu.edu/research-and-recommendations.html\n
 \n
 Please 
 join us in 
 Gold Room B of the Union for discussion of campus 
 sustainability research and learn how you 
 can obtain funds through the Office of Campus 
 Sustainability Seed Grant program for your 
 future research. The Student Project Fund is 
 another funding source available to the campus 
 community to provide financial support to 
 students to explore solutions to sustainability 
 challenges on-campus.\n
 \n
 Event is free. Everyone 
 is welcome. Refreshments will be served. 
 RSVP is appreciated but not required. http://msureasearchsymposium.eventbrite.com/ 
 \n\n
 Price: free\n
 Sponsor: public\n
 Contact name: Lisa Desprez\n
 Contact phone: 517-355-1751\n
 Contact email: begreen@msu.edu\n
 for more info visit the web at:\n 
 http://msureasearchsymposium.eventbrite.com/\n
LOCATION:MSU Union Gold Room B
END:VEVENT
END:VCALENDAR
