BEGIN:VCALENDAR
VERSION:2.0
METHOD:PUBLISH
PRODID:-//Virginia Tech//VT Calendar//EN
BEGIN:VEVENT
DTSTAMP:20130314T003000Z
UID:1361308659341@events.msu.edu
CATEGORIES:Student Events
DTSTART:20130314T003000Z
DTEND:20130314T045900Z
SUMMARY:Disney Interest Group Event
DESCRIPTION:
 Join the Disney Interest Group for a magical night 
 of fun and games! Meet other people who 
 love Disney and talk with students who have participated 
 in the Disney College Program! Students 
 of all majors and grade levels are welcome.\n\n
 Price: free\n
 Sponsor: public\n
 Contact name: Molly Brown\n
 Contact email: brown271@msu.edu\n
LOCATION:Wonders Kiva
END:VEVENT
END:VCALENDAR
