BEGIN:VCALENDAR
VERSION:2.0
METHOD:PUBLISH
PRODID:-//Virginia Tech//VT Calendar//EN
BEGIN:VEVENT
DTSTAMP:20130419T161500Z
UID:1362084091594@events.msu.edu
CATEGORIES:Conferences / Seminars / Lectures
DTSTART:20130419T161500Z
DTEND:20130419T173000Z
SUMMARY:Wage-Slaves and Radicals: Writing a People's History of the 1913 - 14 Michigan Copper Strike
DESCRIPTION:
 Aaron Goings, St. Martins University, and Gary 
 Kaunonen, Michigan Technological University\n
 \n
 The 
 1913-1914 Michigan Copper Strike in one 
 of the most important events in the history 
 of working people and their unions in Michigan, 
 and arguably misunderstood in its national 
 importance more generally. In this talk based 
 on their forthcoming book, Aaron Goings and 
 Gary Kaunonen will paint a working-class history 
 of the strike, presenting valuable new 
 information and perspectives which enrich our 
 understanding of the conflict from the bottom 
 up. Their work is especially rich in placing 
 Italian Hall, before and after the Christmas 
 Eve tragedy where over 70 people -- mostly 
 children -- perished after a false cry of "fire," 
 into its broader significance to workers, 
 managers and the wider Copper Country region. 
 \n
 \n\n
 Price: free\n
 Sponsor: Administration\n
 Sponsor's Homepage: http://www.lib.msu.edu\n
 Contact name: Holly Flynn\n
 Contact phone: 517-884-0901\n
 Contact email: flynnhol@msu.edu\n
LOCATION:Main Library, W449 (4th Floor, West Wing)
END:VEVENT
END:VCALENDAR
