BEGIN:VCALENDAR
VERSION:2.0
METHOD:PUBLISH
PRODID:-//Virginia Tech//VT Calendar//EN
BEGIN:VEVENT
DTSTAMP:20130320T000000Z
UID:1363705825368@events.msu.edu
CATEGORIES:Special Events
DTSTART:20130320T000000Z
DTEND:20130320T045900Z
SUMMARY:Painting Performance with Emmanuel Nkuranga
DESCRIPTION:
 On Tuesday, March 19, join the RCAH in welcoming 
 visiting artist Emmanuel Nkuranga to the RCAH 
 Art Studio for a painting performance.\n
 \n
 Nkuranga 
 is visiting MSU's Teacher Education 
 and RCAH courses, working with the My Brother's 
 Keeper program, and will be spending time 
 in the Greater Lansing area at local galleries 
 and at REACH Studio Art Center.\n
 \n
 You can 
 learn more about Emmanuel Nkuranga's work at 
 http://www.emmanuelnkuranga.com/.\n
 \n\n
 Price: Free\n
 Sponsor: Residential College in the Arts and Humanities\n
 Sponsor's Homepage: http://rcah.msu.edu\n
 Contact name: Katie Wittenauer, RCAH Communications Manager\n
 Contact phone: (517) 884-6290\n
 Contact email: wittenau@msu.edu\n
 for more info visit the web at:\n 
 http://www.rcah.msu.edu/news-events/events/painting-performance-emmanuel-nkuranga\n
LOCATION:Snyder-Phillips Hall, RCAH Art Studio
END:VEVENT
END:VCALENDAR
