BEGIN:VCALENDAR
VERSION:2.0
METHOD:PUBLISH
PRODID:-//Virginia Tech//VT Calendar//EN
BEGIN:VEVENT
DTSTAMP:20130409T000000Z
UID:1364323516472@events.msu.edu
CATEGORIES:Conferences / Seminars / Lectures
DTSTART:20130409T000000Z
DTEND:20130409T045900Z
SUMMARY:Real Heroes: No Capes, No Masks, No Distractions: Quiet Heroes, Martin Lowenberg
DESCRIPTION:
 In honor of Holocaust Remembrance day we invite 
 you to a powerful discussion with Survivor 
 Martin Lowenberg. Lowenberg's powerful story 
 begins in 1933 when Hitler came to power. The 
 then five year old had no idea how much his 
 world had just changed. During Hitler's rule 
 he was sent to five different concentration camps 
 and lost both his parents and younger brothers. 
 Come early for great seats and refreshments.\n
 \n
 \n\n
 Price: FREE\n
 Sponsor: UAB\n
 Sponsor's Homepage: http://www.uabevents.com\n
 Contact name: University Activities Board\n
 Contact phone: 355-3354\n
 Contact email: uab@rhs.msu.edu\n
 for more info visit the web at:\n 
 http://uabevents.com\n
LOCATION:MSU Union Ballroom
END:VEVENT
END:VCALENDAR
