BEGIN:VCALENDAR
VERSION:2.0
METHOD:PUBLISH
PRODID:-//Virginia Tech//VT Calendar//EN
BEGIN:VEVENT
DTSTAMP:20130410T150000Z
UID:1364323721351@events.msu.edu
CATEGORIES:Movie / Film
DTSTART:20130410T150000Z
DTEND:20130410T230000Z
SUMMARY:Clothing Warehouse Sale
DESCRIPTION:
 10 a.m. to 6 p.m., 2nd floor, MSU Union Ballroom\n
 Free 
 Nike t-shirt with $20.00 purchase, ladies 
 Toms shoes $10, Adidas hoodies $2.99 (all 
 while supplies last.) Look for the coupon 
 in the ad in the State News. Park in the Grand 
 River Avenue Ramp and head on over. Spartan 
 Cash Accepted.\n
 \n
 \n\n
 Price: FREE\n
 Sponsor: University Activities Board (UAB)\n
 Sponsor's Homepage: http://www.uabevents.com\n
 Contact name: University Activities Board\n
 Contact phone: 355-3354\n
 Contact email: uab@rhs.msu.edu\n
 for more info visit the web at:\n 
 http://uabevents.com\n
LOCATION:MSU Union Ballroom
END:VEVENT
END:VCALENDAR
