BEGIN:VCALENDAR
VERSION:2.0
METHOD:PUBLISH
PRODID:-//Virginia Tech//VT Calendar//EN
BEGIN:VEVENT
DTSTAMP:20130414T170000Z
UID:1364392981902@events.msu.edu
CATEGORIES:Special Events
DTSTART:20130414T170000Z
DTEND:20130415T035900Z
SUMMARY:Race for the Place 5K
DESCRIPTION:
 Race for the Place, MSU Safe Place's annual 5K 
 Run/Walk will take place on Sunday, April 14, 
 2013.  The Race for the Place is the largest 
 annual fundraiser for MSU Safe Place and allows 
 the program to continue to provide vital 
 services to the members of the MSU and greater 
 Lansing communities who experience relationship 
 violence and stalking.\n
 \n
 The Race for 
 the Place 5K course on Michigan State University's 
 campus begins and ends at Jenison Field 
 House.  This year's race is the traditional 
 kick-off event for the Playmakers Greater Lansing 
 Race Series and has gained considerable 
 respect within the running community. In addition, 
 Race for the Place is a fun-filled family 
 event, with events for kids of all ages, MSU 
 varsity athlete participation and a visit 
 from Sparty!\n\n
 Sponsor: public\n
 Contact name: Alyssa Baumann\n
 Contact phone: 517-432-9570\n
 Contact email: baumann9@msu.edu\n
 for more info visit the web at:\n 
 http://safeplace.msu.edu/race-for-the-place-5k\n
LOCATION:Jenison Field House
END:VEVENT
END:VCALENDAR
