BEGIN:VCALENDAR
VERSION:2.0
METHOD:PUBLISH
PRODID:-//Virginia Tech//VT Calendar//EN
BEGIN:VEVENT
DTSTAMP:20130409T220000Z
UID:1364482848110-0003@events.msu.edu
CATEGORIES:Conferences / Seminars / Lectures
DTSTART:20130409T220000Z
DTEND:20130409T230000Z
SUMMARY:Students for Education Reform Documentary Screening and Discussion 
DESCRIPTION:
 On April 3rd the MSU Students for Education Reform 
 (SFER) will be screening Waiting for Superman 
 in A122 Wells Hall at 5:00pm. On April 
 10th in the same room and at the same time, we 
 will be screening the rebuttal documentary 
 called The Inconvenient Truth Behind Waiting 
 for Superman. Following the screening on April 
 10th, we will have a discussion on the issues 
 brought up by each of the documentaries\n\n
 Price: free\n
 Sponsor: Administration\n
 Sponsor's Homepage: http://events.msu.edu/education/\n
 Contact name: Sarah Gallagher\n
 Contact email: galla180@msu.edu\n
LOCATION:A122 Wells Hall
END:VEVENT
END:VCALENDAR
