BEGIN:VCALENDAR
VERSION:2.0
METHOD:PUBLISH
PRODID:-//Virginia Tech//VT Calendar//EN
BEGIN:VEVENT
DTSTAMP:20130426T160000Z
UID:1365531536393@events.msu.edu
CATEGORIES:Student Events
DTSTART:20130426T160000Z
DTEND:20130426T180000Z
SUMMARY:Ice Cream at the Rock
DESCRIPTION:
 Enjoy free ice cream from the MSU Dairy Store 
 (while supplies last.)\n
 \n
 Rain Location: MSU 
 Union Main Lounge\n\n
 Price: FREE\n
 Sponsor: UAB\n
 Sponsor's Homepage: http://www.uabevents.com\n
 Contact name: University Activities Board\n
 Contact phone: 355-3354\n
 Contact email: uab@rhs.msu.edu\n
 for more info visit the web at:\n 
 http://uabevents.com\n
LOCATION:The Rock on Farm Lane
END:VEVENT
END:VCALENDAR
