BEGIN:VCALENDAR
VERSION:2.0
METHOD:PUBLISH
PRODID:-//Virginia Tech//VT Calendar//EN
BEGIN:VEVENT
DTSTAMP:20130418T230000Z
UID:1366117404290@events.msu.edu
CATEGORIES:Conferences / Seminars / Lectures
DTSTART:20130418T230000Z
DTEND:20130419T003000Z
SUMMARY:2013 Ellis N. Brandt Lecture: Talking to Social Animals: From Food Pyramids to the &quot;Truth&quot;
DESCRIPTION:
 Dr. Rob Gould, Executive Vice President of the 
 D.C. public relations firm Brodeur Partners 
 will speak about how he uses social science to 
 design and implement communication campaigns 
 that advance healthy living, environmental 
 stewardship and other social causes.\n\n
 Price: free\n
 Sponsor: public\n
 Contact name: John C. Besley\n
 Contact phone: 355-2314\n
 Contact email: jbesley@msu.edu\n
 for more info visit the web at:\n 
 http://cas.msu.edu/about-the-college/college-events/94-2013-brandt-lecture-talking-to-social-\n
LOCATION:Room 147 Communication Arts &amp; Sciences Building
END:VEVENT
END:VCALENDAR
