BEGIN:VCALENDAR
VERSION:2.0
METHOD:PUBLISH
PRODID:-//Virginia Tech//VT Calendar//EN
BEGIN:VEVENT
DTSTAMP:20131028T233000Z
UID:1366383470025@events.msu.edu
CATEGORIES:Performing Arts (Dance, Music, Theatre,  ...)
DTSTART:20131028T233000Z
DTEND:20131029T035900Z
SUMMARY:SOLD OUT: 'S Wonderful 
DESCRIPTION:
 This concert is now SOLD OUT. Standing room only 
 tickets will be sold at the door. Visit www.music.msu.edu/fairchild 
 to discover more about 
 College of Music concerts.\n\n
 Price: RESERVED: $15 for adults, $12 for seniors, $5 
 for students\n
 Sponsor: College of Music\n
 Sponsor's Homepage: http://www.music.msu.edu\n
 Contact phone: (517) 353-5340\n
 Contact email: musicpr@msu.edu\n
LOCATION:Fairchild Theatre
END:VEVENT
END:VCALENDAR
