BEGIN:VCALENDAR
VERSION:2.0
METHOD:PUBLISH
PRODID:-//Virginia Tech//VT Calendar//EN
BEGIN:VEVENT
DTSTAMP:20130502T213000Z
UID:1367258938436@events.msu.edu
CATEGORIES:Performing Arts (Dance, Music, Theatre,  ...)
DTSTART:20130502T213000Z
DTEND:20130503T035900Z
SUMMARY:Suzuki Spring Group Concert
DESCRIPTION:
 Join the Suzuki students of the MSU Community 
 Music School as they perform in their Spring 
 Group Concert on Thursday, May 2, at 5:30 p.m., 
 in the CMS Performance Hall. \n\n
 Price: free\n
 Sponsor: Administration\n
 Sponsor's Homepage: http://cms.msu.edu\n
 Contact phone: 517-355-7661\n
 for more info visit the web at:\n 
 http://cms.msu.edu/el/calen-el.php?el_calendar\n
LOCATION:MSU Community Music School
END:VEVENT
END:VCALENDAR
