BEGIN:VCALENDAR
VERSION:2.0
METHOD:PUBLISH
PRODID:-//Virginia Tech//VT Calendar//EN
BEGIN:VEVENT
DTSTAMP:20130502T173000Z
UID:1367259293856@events.msu.edu
CATEGORIES:Performing Arts (Dance, Music, Theatre,  ...)
DTSTART:20130502T173000Z
DTEND:20130503T035900Z
SUMMARY:New Horizons Band Concert
DESCRIPTION:
 Join the New Horizons Band at the Dobie Rd. Medical 
 Care Facility for a performance. \n\n
 Price: free\n
 Sponsor: Administration\n
 Sponsor's Homepage: http://cms.msu.edu\n
 Contact phone: 517-355-7661\n
 for more info visit the web at:\n 
 http://cms.msu.edu/el/calen-el.php?el_calendar\n
LOCATION:Dobie Rd. Medical Care Facility
END:VEVENT
END:VCALENDAR
