BEGIN:VCALENDAR
VERSION:2.0
METHOD:PUBLISH
PRODID:-//Virginia Tech//VT Calendar//EN
BEGIN:VEVENT
DTSTAMP:20130508T040000Z
UID:1367603597279-0011@events.msu.edu
CATEGORIES:Exhibits (Museum, Gardens, ...)
DTSTART;VALUE=DATE:20130508
DTEND;VALUE=DATE:20130509
SUMMARY:East Lansing Modern, 1940 - 1970
DESCRIPTION:
 This exhibition explores the local area's modern 
 architectural design heritage in residential, 
 commercial, public and religious buildings. 
 From examples by internationally known architects 
 to those who practiced solely in mid-Michigan, 
 the modernist style represented a forward-looking 
 approach to contemporary living. 
  Prompted by the State Historic Preservation 
 Office's "Michigan Modern" project (michiganmodern.org), 
 this exhibition offers an appreciation 
 of East Lansing's 1940 - 1970 architecture. 
 It also considers the use of new technologies, 
 modern designs for the home that were 
 available locally, and contemporary art that 
 was popularly collected by homeowners. \n\n
 Price: free\n
 Sponsor: Administration\n
 Sponsor's Homepage: http://museum.msu.edu\n
 Contact phone: 517-355-2370\n
 Contact email: pr@museum.msu.edu\n
 for more info visit the web at:\n 
 http://museum.msu.edu\n
LOCATION:MSU Museum - Ground Floor Gallery
END:VEVENT
END:VCALENDAR
