BEGIN:VCALENDAR
VERSION:2.0
METHOD:PUBLISH
PRODID:-//Virginia Tech//VT Calendar//EN
BEGIN:VEVENT
DTSTAMP:20130616T183000Z
UID:1369158242561@events.msu.edu
CATEGORIES:Public Programs
DTSTART:20130616T183000Z
DTEND:20130616T193000Z
SUMMARY:Little Star  that Could
DESCRIPTION:
 The Sunday family show, until July 21, is "The 
 Little Star that Could."  Little Star is sad 
 because he has no planets of his own, so he 
 sets out on a quest to find some.  Along the 
 way he encounters an assortment of fascinating 
 characters which include Big Daddy, a red giant 
 star; Pearl, a bright white star; Mr. Globular 
 Cluster, and many more.  Although the 
 show is aimed at children, preschool through 
 grade 2, the information and humor appeals to 
 a wide range of ages.\n\n
 Price: Adults $3.00, students and senior citizens $2.50, 
 children 12 years and under $2.00\n
 Sponsor: Abrams Planetarium\n
 Sponsor's Homepage: http://www.pa.msu.edu/abrams\n
 Contact name: Bonnie Sturdivant\n
 Contact phone: 517-355-4676\n
 Contact email: sturdiv1@msu.edu\n
 for more info visit the web at:\n 
 http://www.pa.msu.edu/abrams\n
LOCATION:Abrams Planetarium
END:VEVENT
END:VCALENDAR
