BEGIN:VCALENDAR
VERSION:2.0
METHOD:PUBLISH
PRODID:-//Virginia Tech//VT Calendar//EN
BEGIN:VEVENT
DTSTAMP:20130720T000000Z
UID:1369316992002@events.msu.edu
CATEGORIES:Public Programs
DTSTART:20130720T000000Z
DTEND:20130720T013000Z
SUMMARY:Bad Astronomy
DESCRIPTION:
 Abrams Planetarium weekly public show, last Friday 
 show until fall, is "Bad Astronomy." Were 
 the moon missions actually a hoax? Have aliens 
 landed on Earth? Can you tell your future 
 by the stars? Based on the popular book of the 
 same name, this show offers a unique and fun 
 approach to learning about the cosmos. Join 
 the "Bad Astronomer," Phil Plait as he takes 
 a critical look at popular myths, and misconceptions 
 to show audiences how science can be 
 used to evaluate questionable claims.\n\n
 Price: Adults $3.00, students and senior citizens $2.50, 
 children 12 years and under $2.00\n
 Sponsor: Abrams Planetarium\n
 Sponsor's Homepage: http://www.pa.msu.edu/abrams\n
 Contact name: Bonnie Sturdivant\n
 Contact phone: 517-355-4676\n
 Contact email: sturdiv1@msu.edu\n
 for more info visit the web at:\n 
 http://www.pa.msu.edu/abrams\n
LOCATION:Abrams Planetarium
END:VEVENT
END:VCALENDAR
