BEGIN:VCALENDAR
VERSION:2.0
METHOD:PUBLISH
PRODID:-//Virginia Tech//VT Calendar//EN
BEGIN:VEVENT
DTSTAMP:20130610T160000Z
UID:1369674089981@events.msu.edu
CATEGORIES:Student Events
DTSTART:20130610T160000Z
DTEND:20130610T170000Z
SUMMARY:Class of 2016 Eboard and Reps Meeting
DESCRIPTION:
 Class of 2016 Eboard and Reps Meeting\n\n
 Price:  \n
 Sponsor: student\n
 Contact name: Lauren Doud\n
 Contact phone: (517) 304-6410\n
 Contact email: doudlau1@msu.edu\n
LOCATION:EL-A316, DMC & MUC
END:VEVENT
END:VCALENDAR
