BEGIN:VCALENDAR
VERSION:2.0
METHOD:PUBLISH
PRODID:-//Virginia Tech//VT Calendar//EN
BEGIN:VEVENT
DTSTAMP:20130606T200000Z
UID:1370008812274@events.msu.edu
CATEGORIES:Special Events
DTSTART:20130606T200000Z
DTEND:20130606T220000Z
SUMMARY:MSU Innovation Celebration
DESCRIPTION:
 Join us on Thursday, June 6, from 4-6:00 p.m. 
 (remarks at 5 p.m.) at the MSU Union Ballroom 
 for the Third Annual Michigan State University 
 Innovation Celebration, hosted by the MSU 
 Innovation Center.\n
 \n
 We are proud to honor MSU's 
 Innovator of the Year, Innovation of the 
 Year, and the MSU Technology Transfer Achievement 
 Award. The celebration also showcases a 
 diverse range of the many inventions and technologies 
 developed in campus labs: From gliding 
 robotic fish to remarkable mobile apps, the 
 technologies on display illustrate how MSU 
 drives economic development in mid-Michigan 
 and beyond.\n
 \n
 Register today to celebrate innovation 
 at MSU!\n\n
 Price: free\n
 Sponsor: public\n
 Contact name: Amber Shinn\n
 Contact phone: 517.884.0718\n
 Contact email: shinnamb@msu.edu\n
 for more info visit the web at:\n 
 http://www.technologies.msu.edu/celebration\n
LOCATION:MSU Union Ballroom
END:VEVENT
END:VCALENDAR
