BEGIN:VCALENDAR
VERSION:2.0
METHOD:PUBLISH
PRODID:-//Virginia Tech//VT Calendar//EN
BEGIN:VEVENT
DTSTAMP:20130815T040000Z
UID:1372346676222-0046@events.msu.edu
CATEGORIES:Exhibits (Museum, Gardens, ...)
DTSTART;VALUE=DATE:20130815
DTEND;VALUE=DATE:20130816
SUMMARY:Materializing Mandela's Legacy
DESCRIPTION:
 Textiles have long been made and used to demonstrate 
 solidarity with movements dedicated to 
 advancing international human rights, to mark 
 important events and express memories related 
 to human rights violations, to pay tribute 
 to those individuals who have played roles in 
 human rights activism, and to engage individuals 
 in actions that will solve human rights 
 issues.\n
  \n
 Artists within South Africa and 
 around the world have used their textile skills 
 to produce work that paid particular attention 
 to human rights violations of South Africans 
 living under Apartheid and to the actions 
 of Nelson Mandela and other activists who strove 
 to fight Apartheid and establish a new 
 government. \n
 \n
 The textiles in this exhibit 
 by and about South Africa are fundamental sources 
 for understanding Mandela's legacy and South 
 Africa's history.\n\n
 Price: free\n
 Sponsor: Administration\n
 Sponsor's Homepage: http://museum.msu.edu\n
 Contact phone: (517) 355-2370\n
 Contact email: pr@museum.msu.edu\n
 for more info visit the web at:\n 
 http://museum.msu.edu\n
LOCATION:MSU Museum - Entry Hall
END:VEVENT
END:VCALENDAR
