BEGIN:VCALENDAR
VERSION:2.0
METHOD:PUBLISH
PRODID:-//Virginia Tech//VT Calendar//EN
BEGIN:VEVENT
DTSTAMP:20130725T200000Z
UID:1374604255319@events.msu.edu
CATEGORIES:Conferences / Seminars / Lectures
DTSTART:20130725T200000Z
DTEND:20130725T211500Z
SUMMARY:Department of Chemistry Organic Seminar
DESCRIPTION:
 Dr. Erick Ellis, MSU, Department of Chemistry, 
 will present an Organic Seminar titled "Synthesis 
 of Biodiesel Using Calcium Methoxide," 
 on Thursday, July 25.  Host:  Professor Babak 
 Borhan\n\n
 Price: free\n
 Sponsor: Chemistry\n
 Sponsor's Homepage: http://www.chemistry.msu.edu/\n
 Contact name: DeAnn Pierce\n
 Contact phone: 517-355-9715, ext. 137\n
 Contact email: pierce@chemistry.msu.edu\n
LOCATION:136 Chemistry
END:VEVENT
END:VCALENDAR
