BEGIN:VCALENDAR
VERSION:2.0
METHOD:PUBLISH
PRODID:-//Virginia Tech//VT Calendar//EN
BEGIN:VEVENT
DTSTAMP:20140501T040000Z
UID:1375195006063-0004@events.msu.edu
CATEGORIES:Administration
DTSTART;VALUE=DATE:20140501
DTEND;VALUE=DATE:20140502
SUMMARY:Final Exams
DESCRIPTION:
  Price: free\n
 Sponsor: Administration\n
 Sponsor's Homepage: http://events.msu.edu/registrar/\n
 Contact email: reg@msu.edu\n
END:VEVENT
END:VCALENDAR
