BEGIN:VCALENDAR
VERSION:2.0
METHOD:PUBLISH
PRODID:-//Virginia Tech//VT Calendar//EN
BEGIN:VEVENT
DTSTAMP:20140626T040000Z
UID:1375195394916@events.msu.edu
CATEGORIES:Administration
DTSTART;VALUE=DATE:20140626
DTEND;VALUE=DATE:20140627
SUMMARY:Final Exams for Summer Session One
DESCRIPTION:
  Price: free\n
 Sponsor: Administration\n
 Sponsor's Homepage: http://events.msu.edu/registrar/\n
 Contact email: reg@msu.edu\n
END:VEVENT
END:VCALENDAR
