BEGIN:VCALENDAR
VERSION:2.0
METHOD:PUBLISH
PRODID:-//Virginia Tech//VT Calendar//EN
BEGIN:VEVENT
DTSTAMP:20131110T010000Z
UID:1375207020270@events.msu.edu
CATEGORIES:Performing Arts (Dance, Music, Theatre,  ...)
DTSTART:20131110T010000Z
DTEND:20131110T045900Z
SUMMARY:Lansing Symphony Orchestra with University Chorale, State Singers, and Choral Union
DESCRIPTION:
 Timothy Muffitt, conductor\n
 \n
 Webern - Symphony, 
 Op. 21\n
 Beethoven - Symphony No. 8, Op. 93\n
 Mozart 
 - Requiem\n
 \n
 TICKETS available from 
 Lansing Symphony\n
 Orchestra, (517) 487-5001 or 
 lansingsymphony.org\n\n
 Price: $15-50\n
 Sponsor: College of Music\n
 Sponsor's Homepage: http://www.music.msu.edu\n
 Contact phone: (517) 487-5001\n
LOCATION:Cobb Great Hall, Wharton Center
END:VEVENT
END:VCALENDAR
