BEGIN:VCALENDAR
VERSION:2.0
METHOD:PUBLISH
PRODID:-//Virginia Tech//VT Calendar//EN
BEGIN:VEVENT
DTSTAMP:20130924T230000Z
UID:1375898519537@events.msu.edu
CATEGORIES:Academic
DTSTART:20130924T230000Z
DTEND:20130925T003000Z
SUMMARY:Surviving in Conflict: Personal Reflections on Life in a War Zone
DESCRIPTION:
 &quot;The Yellow Birds&quot; tells the poignant 
 story of an Army solider fighting in the Middle 
 East; but what about the other people in 
 these countries of war? What about the people 
 who see their homes destroyed and friends and 
 family uprooted? The MSU Muslim Studies Program 
 will present a panel of faculty, students 
 and community members who will reflect on 
 what life was like in a war zone. The discussion 
 will be facilitated by Associate Professor 
 of History Emine Evered.\n\n
 Price: free\n
 Sponsor: public\n
 Contact name: Ginny Haas\n
 Contact email: onebook@msu.edu\n
 for more info visit the web at:\n 
 http://www.onebookeastlansing.com/Home/2013Events.aspx\n
LOCATION:East Lansing Public Library
END:VEVENT
END:VCALENDAR
