BEGIN:VCALENDAR
VERSION:2.0
METHOD:PUBLISH
PRODID:-//Virginia Tech//VT Calendar//EN
BEGIN:VEVENT
DTSTAMP:20140311T201500Z
UID:1375990646882@events.msu.edu
CATEGORIES:Academic
DTSTART:20140311T201500Z
DTEND:20140311T220000Z
SUMMARY:The Steering Committee
DESCRIPTION:
 The Steering Committee of University Council will 
 be meeting each month to set the agendas 
 for the upcoming Faculty Senate meetings for 
 2013-2014. Suggestions for agenda items will 
 be accepted from any faculty member or student 
 and referred to the appropriate body.\n\n
 Price: free\n
 Sponsor: Administration\n
 Sponsor's Homepage: http://events.msu.edu/acadgov/\n
 Contact name: Sherry Lott\n
 Contact phone: 517-355-2337\n
 Contact email: sll@msu.edu\n
 for more info visit the web at:\n 
 http://acadgov.msu.edu/ExecCommittee.html\n
LOCATION:Board Rm, Administration Bldg. (4th Floor)
END:VEVENT
END:VCALENDAR
