BEGIN:VCALENDAR
VERSION:2.0
METHOD:PUBLISH
PRODID:-//Virginia Tech//VT Calendar//EN
BEGIN:VEVENT
DTSTAMP:20131119T201500Z
UID:1375992459855@events.msu.edu
CATEGORIES:Academic
DTSTART:20131119T201500Z
DTEND:20131119T220000Z
SUMMARY:University Council
DESCRIPTION:
  Price: free\n
 Sponsor: Administration\n
 Sponsor's Homepage: http://events.msu.edu/acadgov/\n
 Contact name: Sherry Lott\n
 Contact phone: 517-355-2337\n
 Contact email: sll@msu.edu\n
 for more info visit the web at:\n 
 http://acadgov.msu.edu/membersh.html\n
LOCATION:115 International Center
END:VEVENT
END:VCALENDAR
