BEGIN:VCALENDAR
VERSION:2.0
METHOD:PUBLISH
PRODID:-//Virginia Tech//VT Calendar//EN
BEGIN:VEVENT
DTSTAMP:20130926T160000Z
UID:1376676330304@events.msu.edu
CATEGORIES:Student Events
DTSTART:20130926T160000Z
DTEND:20130926T170000Z
SUMMARY:Banned Books Read-Out
DESCRIPTION:
 Celebrate Banned Books Week (September 22 - 28) 
 and help draw attention to issues surrounding 
 censorship. Come read short passages from 
 your favorite banned book into a microphone on 
 the Main Library's patio.  A selection of frequently 
 banned books will also be available.\n
 \n
 Please 
 contact Holly Flynn (flynnhol@msu.edu) 
 if you are interested in reading at the 
 Read Out. \n\n
 Price: free\n
 Sponsor: Administration\n
 Sponsor's Homepage: http://www.lib.msu.edu\n
 Contact name: Holly Flynn\n
 Contact phone: 517-884-0901\n
 Contact email: flynnhol@msu.edu\n
LOCATION:MSU Main Library, Patio (outside north entrance)
END:VEVENT
END:VCALENDAR
