BEGIN:VCALENDAR
VERSION:2.0
METHOD:PUBLISH
PRODID:-//Virginia Tech//VT Calendar//EN
BEGIN:VEVENT
DTSTAMP:20130912T123000Z
UID:1377103716275@events.msu.edu
CATEGORIES:Special Events
DTSTART:20130912T123000Z
DTEND:20130912T140000Z
SUMMARY:Construction Junction
DESCRIPTION:
 Construction Junctions allow Infrastructure Planning 
 and Facilities to provide regular opportunities 
 for dialogue and engagement, in support 
 of MSU President Lou Anna K. Simon's Boldness 
 by Design strategic positioning initiative 
 &quot;Enrich Community.&quot; Think of them 
 as monthly town hall meetings. They are designed 
 to inform MSU staff, faculty and students 
 about projects in design and under construction 
 and to gather feedback from the community.\n\n
 Price: free\n
 Sponsor: public\n
 Contact name: Karen Zelt\n
 Contact email: kzelt@ipf.msu.edu\n
 for more info visit the web at:\n 
 http://ipf.msu.edu/construction/construction-junction/index.html\n
LOCATION:112 Brody Hall
END:VEVENT
END:VCALENDAR
