BEGIN:VCALENDAR
VERSION:2.0
METHOD:PUBLISH
PRODID:-//Virginia Tech//VT Calendar//EN
BEGIN:VEVENT
DTSTAMP:20140323T190000Z
UID:1377638704913@events.msu.edu
CATEGORIES:Movie / Film
DTSTART:20140323T190000Z
DTEND:20140324T014500Z
SUMMARY:9th Annual Israeli Film Festival
DESCRIPTION:
 2:00-3:50 pm   \n
 "Fill the Void" (2012)\n
 \n
 Synopsis: 
 Shira, the youngest daughter of an Orthodox 
 Hassidic family in Tel Aviv, is grief-stricken 
 when her older sister, Esther, dies during 
 childbirth. As the family grieves, Shira 
 is pressured to marry her late sister's husband. 
 Shira faces a very difficult decision. 
 Winner of 7 Israeli Academy Awards.  \n
 \n
 Director: 
  Rama Burshtein. \n
 \n
 Runtime: 90 minutes. 
 \n
 \n
 Language:Hebrew, with English subtitles. 
      \n
 \n
 Presented by Professor Ilana Blumberg, 
 James Madison College.\n
 _________________________________________________\n
 \n
 4:15-5:30pm 
 \n
 "Arab Labor" (2013)\n
 \n
 Synopsis: Two episodes 
 will be shown of the groundbreaking TV 
 series that combines humor and drama to explore 
 the cultural divide between Arabs and Jews 
 in Israel. In this Michigan premiere of Season 
 4, Bushra discovers that she is pregnant. 
  Her husband, Amjad, does not handle the news 
 well.  On his way to becoming the perfect 
 husband, an exemplary father and a promising 
 member of the Knesset, the road to his dilemmas 
 is always paved with good intentions. \n
 \n
 Writer/Creator:  Sayed Kashua.  \n
 \n
 Director: 
 Shai Capon. \n
 \n
 Runtime: 50 minutes.  \n
 \n
 Language: 
 Hebrew and Arabic, with English subtitles.\n
  
 \n
 Presented by Chen Bram, Schusterman 
 Visiting Professor. \n
 _________________________________________________\n
 \n
 5:30 
 pm \n
 Dinner 
 available for purchase onsite. Catered by 
 Woody's Oasis Mediterranean Deli.\n
 _________________________________________________\n
 \n
 6:30-8:45 
 pm      \n
 "Hunting Elephants" (2013) 
    \n
 \n
 Synopsis: This bittersweet farce, about 
 a teenage boy who joins his elderly grandfather 
 and cronies to rob a bank, opened the 2013 
 Jerusalem Film Festival.  Featuring veteran 
 Israeli actors and also British acting legend 
 Patrick Stewart.\n
 \n
 Writer/Director: Reshef 
 Levi.  \n
 \n
 Runtime: 107 minutes. \n
 \n
 Language: 
 Hebrew and English, with English subtitles.\n
 \n
 Presented 
 by Ellen Rothfeld, Coordinator 
 for the MSU Israeli Film Festival. Co-sponsored 
 by the College of Social Science and School 
 of Social Work.\n
 \n
 _________________________________________________\n
 \n
 The 
 9th Annual 
 Israeli Film Festival is supported by the College 
 of Arts & Letters, College of Social Science, 
 James Madison College, Residential College 
 of Arts and Humanities, the Departments 
 of Linguistics & Languages, English/Film Studies, 
 History, and Religious Studies, the School 
 of Social Work, Lester & Jewell Morris Hillel 
 Jewish Student Center, the David Project, 
 the Greater Lansing Jewish Welfare Federation, 
 Congregation Kehillat Israel, and Congregation 
 Shaarey Zedek. In cooperation with the Consulate 
 General of Israel to the Midwest.   
                  \n
   \n\n
 Price: free\n
 Sponsor's Homepage: http://events.msu.edu/jewishstudies/\n
 Contact name: Jewish Studies Program\n
 Contact phone: (517) 432-3493\n
 Contact email: jewishst@msu.edu\n
LOCATION:147 Comm Arts
END:VEVENT
END:VCALENDAR
