BEGIN:VCALENDAR
VERSION:2.0
METHOD:PUBLISH
PRODID:-//Virginia Tech//VT Calendar//EN
BEGIN:VEVENT
DTSTAMP:20131028T152000Z
UID:1377885279161@events.msu.edu
CATEGORIES:Conferences / Seminars / Lectures
DTSTART:20131028T152000Z
DTEND:20131028T163000Z
SUMMARY:Inorganic Chemistry Seminar
DESCRIPTION:
 Monica Carey of Michigan State University will 
 present an inorganic chemistry seminar titled 
 "Into the Void: Hollow Metal Nanoparticles."\n\n
 Price: free\n
 Sponsor: Chemistry\n
 Sponsor's Homepage: http://www.chemistry.msu.edu/\n
 Contact name: Sarah Quraishi\n
 Contact phone: (517) 355-9715 x191\n
 Contact email: quraish3@msu.edu\n
LOCATION:136 Chemistry Bldg.
END:VEVENT
END:VCALENDAR
