BEGIN:VCALENDAR
VERSION:2.0
METHOD:PUBLISH
PRODID:-//Virginia Tech//VT Calendar//EN
BEGIN:VEVENT
DTSTAMP:20130830T140000Z
UID:1378228845759-0005@events.msu.edu
CATEGORIES:Exhibits (Museum, Gardens, ...)
DTSTART:20130830T140000Z
DTEND:20130830T200000Z
SUMMARY:Vivarium: The Glass Houses of Flora + Fauna exhibit
DESCRIPTION:
 From August 26 to October 11, 2013, visit Michelle 
 Word's Vivarium: The Glass Houses of Flora 
 + Fauna in the RCAH's C220 Central Commons 
 Area at Snyder-Phillips Hall. The space is regularly 
 open 10 a.m. to 4 p.m., Monday through 
 Friday.\n
 \n
 On Sunday, September 8, from 1 
 to 3 p.m., a reception for Vivarium: The Glass 
 Houses of Flora + Fauna and Mali On Our Minds 
 will be held in the LookOut! Gallery.\n
 \n
 About 
 Vivarium: The Glass Houses of Flora + Fauna:\n
 \n
 Michelle 
 Word is an artist devoted to 
 collecting. Largely composed of handmade and 
 manufactured found materials, her collage + 
 installation work explores contrasts such as 
 gestural and controlled, familiar and unknown, 
 material and illusion, natural and artificial. 
 Vivarium:  The Glass Houses of Flora + Fauna 
 examines our increasing artificial relationship 
 to nature by considering the ways we adorn 
 or homes and spaces with nature inspired 
 crafts, patterns, flower arrangements, and manicured 
 landscapes.\n\n
 Price: Free\n
 Sponsor: Residential College in the Arts and Humanities\n
 Sponsor's Homepage: http://rcah.msu.edu\n
 Contact name: Katie Wittenauer\n
 Contact phone: (517) 884-6290\n
 Contact email: wittenau@msu.edu\n
 for more info visit the web at:\n 
 http://rcah.msu.edu/news-events/events/vivarium-glass-houses-flora-fauna-exhibit\n
LOCATION:Snyder-Phillips Hall, Second Floor
END:VEVENT
END:VCALENDAR
