BEGIN:VCALENDAR
VERSION:2.0
METHOD:PUBLISH
PRODID:-//Virginia Tech//VT Calendar//EN
BEGIN:VEVENT
DTSTAMP:20131023T160000Z
UID:1378906157241@events.msu.edu
CATEGORIES:Conferences / Seminars / Lectures
DTSTART:20131023T160000Z
DTEND:20131023T170000Z
SUMMARY:A. J. Robison, Ph.D.
DESCRIPTION:
 Assistant Professor, Physiology, Michigan State 
 University, East Lansing, MI \n
 \n
 "Transcriptional 
 and Epigenetic Mechanisms of Drug Addiction 
 and Antidepressant Action in the Brain"\n
 \n
 Host: 
 Bryan Copple\n\n
 Price: free\n
 Sponsor: Administration\n
 Sponsor's Homepage: http://events.msu.edu/deptpharmacology/\n
 Contact name: Academic Office\n
 Contact phone: (517) 884-3553\n
 Contact email: phm@msu.edu\n
 for more info visit the web at:\n 
 http://phmtox.msu.edu/events/seminars/index.html\n
LOCATION:Life Sciences
END:VEVENT
END:VCALENDAR
