BEGIN:VCALENDAR
VERSION:2.0
METHOD:PUBLISH
PRODID:-//Virginia Tech//VT Calendar//EN
BEGIN:VEVENT
DTSTAMP:20131120T170000Z
UID:1378906397987@events.msu.edu
CATEGORIES:Conferences / Seminars / Lectures
DTSTART:20131120T170000Z
DTEND:20131120T180000Z
SUMMARY:Timothy Bartness, Ph.D.
DESCRIPTION:
 Professor, Depts of Biology and Psychology, Georgia 
 State University, Atlanta, GA\n
 \n
 "Bidirectional 
 Communication Between the Brain and 
 Body Fat" \n
 \n
 Host: Stephanie Watts\n\n
 Price: free\n
 Sponsor: Administration\n
 Sponsor's Homepage: http://events.msu.edu/deptpharmacology/\n
 Contact name: Academic Office\n
 Contact phone: (517) 884-3553\n
 Contact email: phm@msu.edu\n
 for more info visit the web at:\n 
 http://phmtox.msu.edu/events/seminars/index.html\n
LOCATION:Life Sciences
END:VEVENT
END:VCALENDAR
