BEGIN:VCALENDAR
VERSION:2.0
METHOD:PUBLISH
PRODID:-//Virginia Tech//VT Calendar//EN
BEGIN:VEVENT
DTSTAMP:20130923T160000Z
UID:1378908680794@events.msu.edu
CATEGORIES:Special Events
DTSTART:20130923T160000Z
DTEND:20130924T035900Z
SUMMARY:&quot;Constitution Day Celebration&quot;
DESCRIPTION:
 In commemoration of Constitution Day on 9/17/13, 
 the MSU College of Law Federalist Society 
 group is hosting a debate on methods of constitutional 
 interpretation.  The debate is being 
 held on 9/23/13.\n\n
 Price: free\n
 Sponsor: public\n
 Contact name: Lynne Frechen\n
 Contact phone: 353-5380\n
 Contact email: lfrechen@msu.edu\n
LOCATION:MSU College of Law, Rm. 343
END:VEVENT
END:VCALENDAR
