BEGIN:VCALENDAR
VERSION:2.0
METHOD:PUBLISH
PRODID:-//Virginia Tech//VT Calendar//EN
BEGIN:VEVENT
DTSTAMP:20131031T000000Z
UID:1379532982872-0007@events.msu.edu
CATEGORIES:Special Events
DTSTART:20131031T000000Z
DTEND:20131030T160000Z
SUMMARY:Cosmic Bowling and Billiards
DESCRIPTION:
 Spartan Lanes & UCue, MSU Union\n
 8 p.m. - midnight\n
 Bring 
 your friends, grab some bowling shoes, 
 practice your bank shot, and have a great 
 time. Free with MSU ID.\n\n
 Price: free\n
 Sponsor: University Activities Board (UAB)\n
 Sponsor's Homepage: http://www.uabevents.com\n
 Contact name: UAB\n
 Contact email: uab@hfs.msu.edu\n
LOCATION:Spartan Lanes & U-Cue, MSU Union
END:VEVENT
END:VCALENDAR
