BEGIN:VCALENDAR
VERSION:2.0
METHOD:PUBLISH
PRODID:-//Virginia Tech//VT Calendar//EN
BEGIN:VEVENT
DTSTAMP:20131028T230000Z
UID:1380120339206@events.msu.edu
CATEGORIES:Special Events
DTSTART:20131028T230000Z
DTEND:20131029T010000Z
SUMMARY:"If Your Clothes Could Talk" Writing Workshop with RCAH Center for Poetry
DESCRIPTION:
 "If Your Clothes Could Talk:" a 2-hour writing 
 workshop focused on clothes, their stories, 
 their secrets, the power they have over us. Participants 
 will draw upon memory, imagination, 
 metaphor and perhaps the shirts on their backs 
 to capture &#147;the voices&#148; of clothes. 
 Participants will be invited to share their 
 writing in a special reading in the RCAH 
 Lookout Gallery on Tuesday, Nov. 12, 2013 at 
 6:00 PM as part of the textile/clothing exhibit 
 connected to the visit of North Carolina 
 poet, Barbara Presnell for the RCAH Center for 
 Poetry at MSU. Workshop facilitators: Anita 
 Skeen (skeen@msu.edu) & Ruelaine Stokes (ruestokes@gmail.com).\n\n
 Price: free\n
 Sponsor: Administration\n
 Sponsor's Homepage: http://poetry.rcah.msu.edu/\n
 Contact name: RCAH Center for Poetry\n
 Contact phone: 517-884-1932\n
 Contact email: cpoetry@msu.edu\n
 for more info visit the web at:\n 
 http://poetry.rcah.msu.edu/calendar.html\n
LOCATION:C201 Snyder Hall
END:VEVENT
END:VCALENDAR
