BEGIN:VCALENDAR
VERSION:2.0
METHOD:PUBLISH
PRODID:-//Virginia Tech//VT Calendar//EN
BEGIN:VEVENT
DTSTAMP:20131023T160000Z
UID:1380512255468-0017@events.msu.edu
CATEGORIES:Exhibits (Museum, Gardens, ...)
DTSTART:20131023T160000Z
DTEND:20131023T183000Z
SUMMARY:"Entry Points: An Incomplete Guide to Zines [Then & Now]" in the RCAH's LookOut! Art Gallery
DESCRIPTION:
 From October 1 through 26, 2013, see "Entry Points: 
 An Incomplete Guide to Zines [Then & Now]" 
 in the RCAH's LookOut! Art Gallery. "Entry 
 Points: An Incomplete Guide to Zines [Then 
 & Now]" represents a broad spectrum of the zine 
 world and includes work on loan from MSU Libraries 
 Special Collections as well as the personal 
 collection of Ethan Tate.\n
 \n
 From 1 to 
 3 p.m. on Sunday, October 6, 2013, join the 
 RCAH for the First Sunday Gallery Walk celebrating 
 "Marigolds to Mulberries: Exploring Natural 
 Dyes" and for "Entry Points: An Incomplete 
 Guide to Zines [Then & Now]."\n
 \n
 Weekly LookOut! 
 Art Gallery hours are Monday through 
 Friday, 12 to 2:30 p.m.\n
 \n\n
 Price: free\n
 Sponsor: Residential College in the Arts and Humanities\n
 Sponsor's Homepage: http://rcah.msu.edu\n
 Contact name: Katie Wittenauer\n
 Contact phone: (517) 884-6290\n
 Contact email: wittenau@msu.edu\n
 for more info visit the web at:\n 
 http://rcah.msu.edu/news-events/events/entry-points-incomplete-guide-zines-then-now\n
LOCATION:RCAH LookOut! Art Gallery
END:VEVENT
END:VCALENDAR
