BEGIN:VCALENDAR
VERSION:2.0
METHOD:PUBLISH
PRODID:-//Virginia Tech//VT Calendar//EN
BEGIN:VEVENT
DTSTAMP:20131106T050000Z
UID:1380554364036@events.msu.edu
CATEGORIES:Special Events
DTSTART;VALUE=DATE:20131106
DTEND;VALUE=DATE:20131107
SUMMARY:MSU 360.24
DESCRIPTION:
 One day. Spartans around the globe. Be part of 
 it.\n
 \n
 On November 6, Spartans around the globe 
 are invited to shoot video-or photos-of the 
 ordinary and extraordinary moments of their 
 day. Share them with us for a special video 
 documentary that captures a day in the life 
 of Michigan State University alumni, students, 
 faculty, and staff.\n\n
 Price: free\n
 Sponsor: Administration\n
 Sponsor's Homepage: http://events.msu.edu/\n
 Contact phone: (517) 355-7505\n
 Contact email: webteam@cabs.msu.edu\n
 for more info visit the web at:\n 
 http://www.msu.edu/24/\n
END:VEVENT
END:VCALENDAR
