BEGIN:VCALENDAR
VERSION:2.0
METHOD:PUBLISH
PRODID:-//Virginia Tech//VT Calendar//EN
BEGIN:VEVENT
DTSTAMP:20131018T230000Z
UID:1380652852085@events.msu.edu
CATEGORIES:Special Events
DTSTART:20131018T230000Z
DTEND:20131019T035900Z
SUMMARY:Campus Center Cinemas - Despicable Me 1 & 2
DESCRIPTION:
 Double Feature!\n
 Note: All movies are shown in 
 the B Wing of Wells Hall.  All students and 
 guests must show valid picture ID for movie entry.\n\n
 Price: FREE for undergraduate students living in MSU 
 residence halls, $2 for all others\n
 Sponsor: University Activities Board (UAB) and the Residence 
 Halls Assoc.\n
 Sponsor's Homepage: http://www.uabevents.com\n
 Contact name: University Activities Board\n
 Contact phone: 355-3354\n
 Contact email: uab@rhs.msu.edu\n
 for more info visit the web at:\n 
 http://uabevents.com\n
LOCATION:115B Wing, Wells Hall
END:VEVENT
END:VCALENDAR
