BEGIN:VCALENDAR
VERSION:2.0
METHOD:PUBLISH
PRODID:-//Virginia Tech//VT Calendar//EN
BEGIN:VEVENT
DTSTAMP:20131024T000000Z
UID:1381769053399@events.msu.edu
CATEGORIES:Public Programs
DTSTART:20131024T000000Z
DTEND:20131024T010000Z
SUMMARY:WKAR Current Sports: Be in the TV Audience
DESCRIPTION:
  Guest: MSU Head Athletic Trainer, Sally Nogle\n\n
 Price: free\n
 Sponsor: public\n
 Contact name: Marlene Wilkins\n
 Contact email: marlene@wkar.org\n
 for more info visit the web at:\n 
 http://http://wkar.org/current-sports-be-tv-audience\n
LOCATION:Communication Arts &amp; Sciences Bldg.
END:VEVENT
END:VCALENDAR
