BEGIN:VCALENDAR
VERSION:2.0
METHOD:PUBLISH
PRODID:-//Virginia Tech//VT Calendar//EN
BEGIN:VEVENT
DTSTAMP:20131030T000000Z
UID:1381853748904@events.msu.edu
CATEGORIES:Special Events
DTSTART:20131030T000000Z
DTEND:20131030T023000Z
SUMMARY:Documentary Showing: Girl Rising
DESCRIPTION:
 Join UAB and the Women's Resource Center in the 
 viewing of Girl Rising, a documentary that 
 spotlights the strength of the human spirit and 
 the power of education to change a girl - 
 and the world.  Before the documentary a guest 
 speaker will give an introduction to the film. 
  \n
 \n
 Free for all MSU students plus one guest 
 - ALL MUST  SHOW ID.\n\n
 Price: FREE for undergraduate students living in MSU 
 residence halls\n
 Sponsor: University Activities Board (UAB) and the Residence 
 Halls Assoc.\n
 Sponsor's Homepage: http://www.uabevents.com\n
 Contact name: University Activities Board\n
 Contact phone: 355-3354\n
 Contact email: uab@rhs.msu.edu\n
 for more info visit the web at:\n 
 http://uabevents.com\n
LOCATION:MSU Union Ballroom
END:VEVENT
END:VCALENDAR
